BEGIN:VCALENDAR
VERSION:2.0
PRODID:-//labri.fr//NONSGML kigkonsult.se iCalcreator 2.41.92//
CALSCALE:GREGORIAN
METHOD:PUBLISH
UID:692c4211-69e5-4734-b2cf-15810a47f710
X-WR-CALNAME:Thèse Idriss Daoudi : «Modélisation de performance et simulati
 on d’applications OpenMP »
X-WR-TIMEZONE:Europe/Paris
BEGIN:VTIMEZONE
TZID:Europe/Paris
TZUNTIL:20230326T010000Z
BEGIN:STANDARD
TZNAME:CET
DTSTART:20201025T030000
TZOFFSETFROM:+0200
TZOFFSETTO:+0100
RDATE:20211031T030000
RDATE:20221030T030000
END:STANDARD
BEGIN:DAYLIGHT
TZNAME:CEST
DTSTART:20210328T020000
TZOFFSETFROM:+0100
TZOFFSETTO:+0200
RDATE:20220327T020000
END:DAYLIGHT
END:VTIMEZONE
BEGIN:VEVENT
UID:692c4211-69e5-4734-b2cf-15810a47f710
DTSTAMP:20260421T195833Z
CLASS:PUBLIC
DESCRIPTION:Idriss Daoudi (département Satanas) soutiendra sa thèse intitul
 ée : «Modélisation de performance et simulation d’applications OpenMP »\n
DTSTART;TZID=Europe/Paris:20210921T140000
DTEND;TZID=Europe/Paris:20210921T180000
LOCATION:Amphi LaBRI
ORGANIZER;CN=Samuel Thibault:mailto:samuel.thibault@labri.fr
SEQUENCE:0
SUMMARY:Thèse Idriss Daoudi : «Modélisation de performance et simulation d’
 applications OpenMP »
TRANSP:OPAQUE
END:VEVENT
END:VCALENDAR
