BEGIN:VCALENDAR
VERSION:2.0
PRODID:-//labri.fr//NONSGML kigkonsult.se iCalcreator 2.41.92//
CALSCALE:GREGORIAN
METHOD:PUBLISH
UID:7138d7ab-1fe3-42ae-bea9-d9c13551b2c5
X-WR-CALNAME:HDR defence of Pierre Dragicevic (I&S department)
X-WR-TIMEZONE:Europe/Paris
BEGIN:VTIMEZONE
TZID:Europe/Paris
TZUNTIL:20250330T010000Z
BEGIN:STANDARD
TZNAME:CET
DTSTART:20221030T030000
TZOFFSETFROM:+0200
TZOFFSETTO:+0100
RDATE:20231029T030000
RDATE:20241027T030000
END:STANDARD
BEGIN:DAYLIGHT
TZNAME:CEST
DTSTART:20230326T020000
TZOFFSETFROM:+0100
TZOFFSETTO:+0200
RDATE:20240331T020000
END:DAYLIGHT
END:VTIMEZONE
BEGIN:VEVENT
UID:7138d7ab-1fe3-42ae-bea9-d9c13551b2c5
DTSTAMP:20260421T065915Z
CLASS:PUBLIC
DESCRIPTION:Pierre Dragicevic will defend his HDR entitled: 'Small Data – V
 isualizing Simple Datasets for Communication and Decision Making'.\n
DTSTART;TZID=Europe/Paris:20230623T150000
DTEND;TZID=Europe/Paris:20230623T190000
LOCATION:Inria (Salle Ada Lovelace)
ORGANIZER;CN=Pierre Dragicevic:mailto:pierre.dragicevic@inria.fr
SEQUENCE:0
SUMMARY:HDR defence of Pierre Dragicevic (I&S department)
TRANSP:OPAQUE
END:VEVENT
END:VCALENDAR
