BEGIN:VCALENDAR
VERSION:2.0
PRODID:-//labri.fr//NONSGML kigkonsult.se iCalcreator 2.41.92//
CALSCALE:GREGORIAN
METHOD:PUBLISH
UID:00b435c2-1c41-4c64-a4d7-3bfcdeda3530
X-WR-CALNAME:Michela Chiappalone (DIBRIS\, University of Genova (Italy) wil
 l present a seminar: “Neuroengineering solutions for restoring brain funct
 ions”
X-WR-TIMEZONE:Europe/Paris
BEGIN:VTIMEZONE
TZID:Europe/Paris
TZUNTIL:20231029T010000Z
BEGIN:STANDARD
TZNAME:CET
DTSTART:20201025T030000
TZOFFSETFROM:+0200
TZOFFSETTO:+0100
RDATE:20211031T030000
RDATE:20221030T030000
END:STANDARD
BEGIN:DAYLIGHT
TZNAME:CEST
DTSTART:20210328T020000
TZOFFSETFROM:+0100
TZOFFSETTO:+0200
RDATE:20220327T020000
RDATE:20230326T020000
END:DAYLIGHT
END:VTIMEZONE
BEGIN:VEVENT
UID:00b435c2-1c41-4c64-a4d7-3bfcdeda3530
DTSTAMP:20260421T065044Z
CLASS:PUBLIC
DESCRIPTION:The Graduate Program Numerics invites you to its seminar on soc
 ietal issues &amp\; scientific culture related to digital technology. Seco
 nd session: Wednesday\, October 20 at 6:15 pm in room 178 of the LaBRI (pr
 eceded by a snack at 5:30 pm).\n
DTSTART;TZID=Europe/Paris:20211020T181500
DTEND;TZID=Europe/Paris:20211020T190000
LOCATION:Salle 178 (LaBRI)
SEQUENCE:0
SUMMARY:Michela Chiappalone (DIBRIS\, University of Genova (Italy) will pre
 sent a seminar: “Neuroengineering solutions for restoring brain functions”
TRANSP:OPAQUE
END:VEVENT
END:VCALENDAR
